BEGIN:VCALENDAR
VERSION:2.0
PRODID:-//Jones-Wynn Funeral Home - ECPv6.15.20//NONSGML v1.0//EN
CALSCALE:GREGORIAN
METHOD:PUBLISH
X-ORIGINAL-URL:https://jones-wynn.com
X-WR-CALDESC:Events for Jones-Wynn Funeral Home
REFRESH-INTERVAL;VALUE=DURATION:PT1H
X-Robots-Tag:noindex
X-PUBLISHED-TTL:PT1H
BEGIN:VTIMEZONE
TZID:America/New_York
BEGIN:DAYLIGHT
TZOFFSETFROM:-0500
TZOFFSETTO:-0400
TZNAME:EDT
DTSTART:20230312T070000
END:DAYLIGHT
BEGIN:STANDARD
TZOFFSETFROM:-0400
TZOFFSETTO:-0500
TZNAME:EST
DTSTART:20231105T060000
END:STANDARD
BEGIN:DAYLIGHT
TZOFFSETFROM:-0500
TZOFFSETTO:-0400
TZNAME:EDT
DTSTART:20240310T070000
END:DAYLIGHT
BEGIN:STANDARD
TZOFFSETFROM:-0400
TZOFFSETTO:-0500
TZNAME:EST
DTSTART:20241103T060000
END:STANDARD
BEGIN:DAYLIGHT
TZOFFSETFROM:-0500
TZOFFSETTO:-0400
TZNAME:EDT
DTSTART:20250309T070000
END:DAYLIGHT
BEGIN:STANDARD
TZOFFSETFROM:-0400
TZOFFSETTO:-0500
TZNAME:EST
DTSTART:20251102T060000
END:STANDARD
END:VTIMEZONE
BEGIN:VEVENT
DTSTART;TZID=America/New_York:20241201T153000
DTEND;TZID=America/New_York:20241201T170000
DTSTAMP:20260423T181855
CREATED:20241017T203420Z
LAST-MODIFIED:20241118T163852Z
UID:2688-1733067000-1733072400@jones-wynn.com
SUMMARY:Villa Rica Chapel Remembrance Service
DESCRIPTION:Sunday\, December 1\, 2024\, at 4 pm (light refreshments at 3:30)\nIn order to receive your ornament please RSVP by November 14th\, 2024 by calling 770-459-3694 \nPlease join us at Jones-Wynn Funeral Homes & Crematory for our 2024 Holiday Remembrance Service. \nEach family we served this year will receive one (1) glass ornament in Memory of their loved one (additional ornaments may be purchased here). \nIf you’d like to request your free ornament or purchase one for that night\, please call the Villa Rica Chapel at 770-459-3694.
URL:https://jones-wynn.com/event/villa-rica-chapel-remembrance-service/
LOCATION:Villa Rica Chapel\, 306 Westview Drive\, Villa Rica\, 30180\, United States
CATEGORIES:Remembrance Services
ATTACH;FMTTYPE=image/jpeg:https://jones-wynn.com/wp-content/uploads/2024/10/JWPhotos_Nov-Dec_2023052.jpg
END:VEVENT
END:VCALENDAR