BEGIN:VCALENDAR
VERSION:2.0
PRODID:-//Jones-Wynn Funeral Home - ECPv6.15.20//NONSGML v1.0//EN
CALSCALE:GREGORIAN
METHOD:PUBLISH
X-WR-CALNAME:Jones-Wynn Funeral Home
X-ORIGINAL-URL:https://jones-wynn.com
X-WR-CALDESC:Events for Jones-Wynn Funeral Home
REFRESH-INTERVAL;VALUE=DURATION:PT1H
X-Robots-Tag:noindex
X-PUBLISHED-TTL:PT1H
BEGIN:VTIMEZONE
TZID:America/New_York
BEGIN:DAYLIGHT
TZOFFSETFROM:-0500
TZOFFSETTO:-0400
TZNAME:EDT
DTSTART:20240310T070000
END:DAYLIGHT
BEGIN:STANDARD
TZOFFSETFROM:-0400
TZOFFSETTO:-0500
TZNAME:EST
DTSTART:20241103T060000
END:STANDARD
BEGIN:DAYLIGHT
TZOFFSETFROM:-0500
TZOFFSETTO:-0400
TZNAME:EDT
DTSTART:20250309T070000
END:DAYLIGHT
BEGIN:STANDARD
TZOFFSETFROM:-0400
TZOFFSETTO:-0500
TZNAME:EST
DTSTART:20251102T060000
END:STANDARD
BEGIN:DAYLIGHT
TZOFFSETFROM:-0500
TZOFFSETTO:-0400
TZNAME:EDT
DTSTART:20260308T070000
END:DAYLIGHT
BEGIN:STANDARD
TZOFFSETFROM:-0400
TZOFFSETTO:-0500
TZNAME:EST
DTSTART:20261101T060000
END:STANDARD
END:VTIMEZONE
BEGIN:VEVENT
DTSTART;TZID=America/New_York:20251113T113000
DTEND;TZID=America/New_York:20251113T130000
DTSTAMP:20260425T133811
CREATED:20250818T140237Z
LAST-MODIFIED:20250922T141121Z
UID:2824-1763033400-1763038800@jones-wynn.com
SUMMARY:Lunch and Learn
DESCRIPTION:We invite you to learn how planning for your final wishes may shield your family from unnecessary emotional and financial burden. Join us for a light meal and learn more about pre-arrangements\, veteran benefits\, cremation\, burials\, and more.
URL:https://jones-wynn.com/event/lunch-and-learn-8-copy-copy/
LOCATION:Red Lobster\, 3100 Bill Arp Rd\, Douglasville\, GA\, 30135\, United States
CATEGORIES:Lunch and Learn
ATTACH;FMTTYPE=image/jpeg:https://jones-wynn.com/wp-content/uploads/2025/08/homemade-buttermilk-cheddar-biscuits.jpg
ORGANIZER;CN="McKayd LaRose":MAILTO:mckayd@jones-wynn.com
END:VEVENT
BEGIN:VEVENT
DTSTART;TZID=America/New_York:20251113T173000
DTEND;TZID=America/New_York:20251113T190000
DTSTAMP:20260425T133811
CREATED:20250818T140434Z
LAST-MODIFIED:20250922T140740Z
UID:2827-1763055000-1763060400@jones-wynn.com
SUMMARY:Lunch and Learn
DESCRIPTION:We invite you to learn how planning for your final wishes may shield your family from unnecessary emotional and financial burden. Join us for a light meal and learn more about pre-arrangements\, veteran benefits\, cremation\, burials\, and more.
URL:https://jones-wynn.com/event/lunch-and-learn-8-copy-2-copy/
LOCATION:Red Lobster\, 3100 Bill Arp Rd\, Douglasville\, GA\, 30135\, United States
CATEGORIES:Lunch and Learn
ATTACH;FMTTYPE=image/jpeg:https://jones-wynn.com/wp-content/uploads/2025/08/homemade-buttermilk-cheddar-biscuits.jpg
ORGANIZER;CN="McKayd LaRose":MAILTO:mckayd@jones-wynn.com
END:VEVENT
BEGIN:VEVENT
DTSTART;TZID=America/New_York:20251123T153000
DTEND;TZID=America/New_York:20251123T170000
DTSTAMP:20260425T133811
CREATED:20251113T160910Z
LAST-MODIFIED:20251113T161101Z
UID:2869-1763911800-1763917200@jones-wynn.com
SUMMARY:2025 Douglas Chapel Remembrance Service
DESCRIPTION:Sunday\, November 23\, 2025\, at 4 pm (light refreshments at 3:30) \nPlease join us\, at Jones-Wynn Funeral Homes and Crematory for our Holiday Remembrance Services. Each family we served this year will receive (1) non-personalized ornament in memory of their loved one. (The Traditional Glass Angel Personalized ornaments may be purchased for $35.00 upon submitting an order request a week before the service.) \nTo attend one of our services and get free non-personalized ornament\, no RSVP needed. \nTo order a personalized ornament please RSVP by November 17\, 2025 by calling 770-942-2311 to ensure your ornament is ready for pickup the evening of the Douglas Chapel Remembrance Service. \nOrders placed after the RSVP date will be available for pickup two weeks following the service. \nAdditional ornaments may be purchased online here
URL:https://jones-wynn.com/event/2025-douglas-chapel-remembrance-service/
LOCATION:Douglas Chapel\, 2189 Midway Road\, Douglasville\, GA\, 30135\, United States
CATEGORIES:Remembrance Services
ATTACH;FMTTYPE=image/jpeg:https://jones-wynn.com/wp-content/uploads/2024/10/JWPhotos_Nov-Dec_2023131.jpg
END:VEVENT
END:VCALENDAR