BEGIN:VCALENDAR
VERSION:2.0
PRODID:-//Jones-Wynn Funeral Home - ECPv6.15.20//NONSGML v1.0//EN
CALSCALE:GREGORIAN
METHOD:PUBLISH
X-ORIGINAL-URL:https://jones-wynn.com
X-WR-CALDESC:Events for Jones-Wynn Funeral Home
REFRESH-INTERVAL;VALUE=DURATION:PT1H
X-Robots-Tag:noindex
X-PUBLISHED-TTL:PT1H
BEGIN:VTIMEZONE
TZID:America/New_York
BEGIN:DAYLIGHT
TZOFFSETFROM:-0500
TZOFFSETTO:-0400
TZNAME:EDT
DTSTART:20240310T070000
END:DAYLIGHT
BEGIN:STANDARD
TZOFFSETFROM:-0400
TZOFFSETTO:-0500
TZNAME:EST
DTSTART:20241103T060000
END:STANDARD
BEGIN:DAYLIGHT
TZOFFSETFROM:-0500
TZOFFSETTO:-0400
TZNAME:EDT
DTSTART:20250309T070000
END:DAYLIGHT
BEGIN:STANDARD
TZOFFSETFROM:-0400
TZOFFSETTO:-0500
TZNAME:EST
DTSTART:20251102T060000
END:STANDARD
BEGIN:DAYLIGHT
TZOFFSETFROM:-0500
TZOFFSETTO:-0400
TZNAME:EDT
DTSTART:20260308T070000
END:DAYLIGHT
BEGIN:STANDARD
TZOFFSETFROM:-0400
TZOFFSETTO:-0500
TZNAME:EST
DTSTART:20261101T060000
END:STANDARD
END:VTIMEZONE
BEGIN:VEVENT
DTSTART;TZID=America/New_York:20251207T153000
DTEND;TZID=America/New_York:20251207T170000
DTSTAMP:20260425T120007
CREATED:20251113T155846Z
LAST-MODIFIED:20251113T160857Z
UID:2866-1765121400-1765126800@jones-wynn.com
SUMMARY:2025 Villa Rica Chapel Remembrance Service
DESCRIPTION:Sunday\, December 7\, 2025\, at 4 pm (light refreshments at 3:30) \nPlease join us\, at Jones-Wynn Funeral Homes and Crematory for our Holiday Remembrance Services. Each family we served this year will receive (1) non-personalized ornament in memory of their loved one. (The Traditional Glass Angel Personalized ornaments may be purchased for $35.00 upon submitting an order request a week before the service.) \nTo attend one of our services and get free non-personalized ornament\, no RSVP needed. \nTo order a personalized ornament please RSVP by December 1\, 2025 by calling 770-459-3694 to ensure your ornament is ready for pickup the evening of the Villa Rica Remembrance Service. \nOrders placed after the RSVP date will be available for pickup two weeks following the service. \nAdditional ornaments may be purchased online here
URL:https://jones-wynn.com/event/2025-villa-rica-chapel-remembrance-service/
LOCATION:Villa Rica Chapel\, 306 Westview Drive\, Villa Rica\, 30180\, United States
CATEGORIES:Remembrance Services
ATTACH;FMTTYPE=image/jpeg:https://jones-wynn.com/wp-content/uploads/2024/10/JWPhotos_Nov-Dec_2023052.jpg
END:VEVENT
BEGIN:VEVENT
DTSTART;TZID=America/New_York:20251209T113000
DTEND;TZID=America/New_York:20251209T130000
DTSTAMP:20260425T120007
CREATED:20250818T141059Z
LAST-MODIFIED:20250818T141450Z
UID:2831-1765279800-1765285200@jones-wynn.com
SUMMARY:Lunch and Learn
DESCRIPTION:We invite you to learn how planning for your final wishes may shield your family from unnecessary emotional and financial burden. Join us for a light meal and learn more about pre-arrangements\, veteran benefits\, cremation\, burials\, and more.
URL:https://jones-wynn.com/event/lunch-and-learn-8-copy-copy-copy/
LOCATION:Casa Sol Tex\, 955 W Hwy 78\, Villa Rica\, 30180\, United States
CATEGORIES:Lunch and Learn
ATTACH;FMTTYPE=image/jpeg:https://jones-wynn.com/wp-content/uploads/2025/08/mexican-grilled-corn.jpg
ORGANIZER;CN="McKayd LaRose":MAILTO:mckayd@jones-wynn.com
END:VEVENT
BEGIN:VEVENT
DTSTART;TZID=America/New_York:20251209T173000
DTEND;TZID=America/New_York:20251209T190000
DTSTAMP:20260425T120007
CREATED:20250818T141522Z
LAST-MODIFIED:20250818T141658Z
UID:2836-1765301400-1765306800@jones-wynn.com
SUMMARY:Lunch and Learn
DESCRIPTION:We invite you to learn how planning for your final wishes may shield your family from unnecessary emotional and financial burden. Join us for a light meal and learn more about pre-arrangements\, veteran benefits\, cremation\, burials\, and more.
URL:https://jones-wynn.com/event/lunch-and-learn-8-copy-2-copy-copy/
LOCATION:Casa Sol Tex\, 955 W Hwy 78\, Villa Rica\, 30180\, United States
CATEGORIES:Lunch and Learn
ATTACH;FMTTYPE=image/jpeg:https://jones-wynn.com/wp-content/uploads/2025/08/mexican-grilled-corn.jpg
ORGANIZER;CN="McKayd LaRose":MAILTO:mckayd@jones-wynn.com
END:VEVENT
END:VCALENDAR